BEGIN:VCALENDAR
VERSION:2.0
PRODID:-//Story Tapestries - ECPv6.15.20//NONSGML v1.0//EN
CALSCALE:GREGORIAN
METHOD:PUBLISH
X-WR-CALNAME:Story Tapestries
X-ORIGINAL-URL:https://storytapestries.org
X-WR-CALDESC:Events for Story Tapestries
REFRESH-INTERVAL;VALUE=DURATION:PT1H
X-Robots-Tag:noindex
X-PUBLISHED-TTL:PT1H
BEGIN:VTIMEZONE
TZID:America/New_York
BEGIN:DAYLIGHT
TZOFFSETFROM:-0500
TZOFFSETTO:-0400
TZNAME:EDT
DTSTART:20250309T070000
END:DAYLIGHT
BEGIN:STANDARD
TZOFFSETFROM:-0400
TZOFFSETTO:-0500
TZNAME:EST
DTSTART:20251102T060000
END:STANDARD
BEGIN:DAYLIGHT
TZOFFSETFROM:-0500
TZOFFSETTO:-0400
TZNAME:EDT
DTSTART:20260308T070000
END:DAYLIGHT
BEGIN:STANDARD
TZOFFSETFROM:-0400
TZOFFSETTO:-0500
TZNAME:EST
DTSTART:20261101T060000
END:STANDARD
BEGIN:DAYLIGHT
TZOFFSETFROM:-0500
TZOFFSETTO:-0400
TZNAME:EDT
DTSTART:20270314T070000
END:DAYLIGHT
BEGIN:STANDARD
TZOFFSETFROM:-0400
TZOFFSETTO:-0500
TZNAME:EST
DTSTART:20271107T060000
END:STANDARD
END:VTIMEZONE
BEGIN:VEVENT
DTSTART;TZID=America/New_York:20260519T190000
DTEND;TZID=America/New_York:20260519T191500
DTSTAMP:20260419T095306
CREATED:20260320T002821Z
LAST-MODIFIED:20260419T122710Z
UID:10000521-1779217200-1779218100@storytapestries.org
SUMMARY:Tuesdays with Story Tapestries - Facebook LIVE!
DESCRIPTION:
URL:https://storytapestries.org/event/tuesdays-with-story-tapestries-facebook-live-111/
LOCATION:https://www.facebook.com/StoryTapestries
END:VEVENT
BEGIN:VEVENT
DTSTART;TZID=America/New_York:20260526T190000
DTEND;TZID=America/New_York:20260526T191500
DTSTAMP:20260419T095306
CREATED:20260327T004133Z
LAST-MODIFIED:20260419T122711Z
UID:10000522-1779822000-1779822900@storytapestries.org
SUMMARY:Tuesdays with Story Tapestries - Facebook LIVE!
DESCRIPTION:
URL:https://storytapestries.org/event/tuesdays-with-story-tapestries-facebook-live-112/
LOCATION:https://www.facebook.com/StoryTapestries
END:VEVENT
BEGIN:VEVENT
DTSTART;TZID=America/New_York:20260602T190000
DTEND;TZID=America/New_York:20260602T191500
DTSTAMP:20260419T095306
CREATED:20260403T005830Z
LAST-MODIFIED:20260419T122711Z
UID:10000523-1780426800-1780427700@storytapestries.org
SUMMARY:Tuesdays with Story Tapestries - Facebook LIVE!
DESCRIPTION:
URL:https://storytapestries.org/event/tuesdays-with-story-tapestries-facebook-live-113/
LOCATION:https://www.facebook.com/StoryTapestries
END:VEVENT
BEGIN:VEVENT
DTSTART;TZID=America/New_York:20260609T190000
DTEND;TZID=America/New_York:20260609T191500
DTSTAMP:20260419T095306
CREATED:20260410T005602Z
LAST-MODIFIED:20260419T122711Z
UID:10000524-1781031600-1781032500@storytapestries.org
SUMMARY:Tuesdays with Story Tapestries - Facebook LIVE!
DESCRIPTION:
URL:https://storytapestries.org/event/tuesdays-with-story-tapestries-facebook-live-114/
LOCATION:https://www.facebook.com/StoryTapestries
END:VEVENT
BEGIN:VEVENT
DTSTART;TZID=America/New_York:20260616T190000
DTEND;TZID=America/New_York:20260616T191500
DTSTAMP:20260419T095306
CREATED:20260417T010657Z
LAST-MODIFIED:20260419T122711Z
UID:10000530-1781636400-1781637300@storytapestries.org
SUMMARY:Tuesdays with Story Tapestries - Facebook LIVE!
DESCRIPTION:
URL:https://storytapestries.org/event/tuesdays-with-story-tapestries-facebook-live-115/
LOCATION:https://www.facebook.com/StoryTapestries
END:VEVENT
END:VCALENDAR