BEGIN:VCALENDAR
VERSION:2.0
PRODID:-//Story Tapestries - ECPv6.15.20//NONSGML v1.0//EN
CALSCALE:GREGORIAN
METHOD:PUBLISH
X-WR-CALNAME:Story Tapestries
X-ORIGINAL-URL:https://storytapestries.org
X-WR-CALDESC:Events for Story Tapestries
REFRESH-INTERVAL;VALUE=DURATION:PT1H
X-Robots-Tag:noindex
X-PUBLISHED-TTL:PT1H
BEGIN:VTIMEZONE
TZID:America/New_York
BEGIN:DAYLIGHT
TZOFFSETFROM:-0500
TZOFFSETTO:-0400
TZNAME:EDT
DTSTART:20250309T070000
END:DAYLIGHT
BEGIN:STANDARD
TZOFFSETFROM:-0400
TZOFFSETTO:-0500
TZNAME:EST
DTSTART:20251102T060000
END:STANDARD
BEGIN:DAYLIGHT
TZOFFSETFROM:-0500
TZOFFSETTO:-0400
TZNAME:EDT
DTSTART:20260308T070000
END:DAYLIGHT
BEGIN:STANDARD
TZOFFSETFROM:-0400
TZOFFSETTO:-0500
TZNAME:EST
DTSTART:20261101T060000
END:STANDARD
BEGIN:DAYLIGHT
TZOFFSETFROM:-0500
TZOFFSETTO:-0400
TZNAME:EDT
DTSTART:20270314T070000
END:DAYLIGHT
BEGIN:STANDARD
TZOFFSETFROM:-0400
TZOFFSETTO:-0500
TZNAME:EST
DTSTART:20271107T060000
END:STANDARD
END:VTIMEZONE
BEGIN:VEVENT
DTSTART;TZID=America/New_York:20260422T103000
DTEND;TZID=America/New_York:20260422T113000
DTSTAMP:20260419T083133
CREATED:20260413T191200Z
LAST-MODIFIED:20260419T122618Z
UID:10000527-1776853800-1776857400@storytapestries.org
SUMMARY:Stories + Dance = Joy - West End Neighborhood Library (DC)
DESCRIPTION:Join choreographer\, dancer\, and educator Kelly King in a playful\, movement-centered performance and demonstration. We'll warm-up our brains and bodies\, listen to a story\, and add movement as we go. We'll dance the story with and without words\, then listen to it again. Leave the performance ready to move and play while learning. \nShare This Article:
URL:https://storytapestries.org/event/stories-dance-joy-west-end-neighborhood-library-dc/
LOCATION:2301 L St NW\, Washington\, DC\, United States
GEO:38.898918;-77.055446
END:VEVENT
END:VCALENDAR