BEGIN:VCALENDAR
VERSION:2.0
PRODID:-//Story Tapestries - ECPv6.15.20//NONSGML v1.0//EN
CALSCALE:GREGORIAN
METHOD:PUBLISH
X-WR-CALNAME:Story Tapestries
X-ORIGINAL-URL:https://storytapestries.org
X-WR-CALDESC:Events for Story Tapestries
REFRESH-INTERVAL;VALUE=DURATION:PT1H
X-Robots-Tag:noindex
X-PUBLISHED-TTL:PT1H
BEGIN:VTIMEZONE
TZID:America/New_York
BEGIN:DAYLIGHT
TZOFFSETFROM:-0500
TZOFFSETTO:-0400
TZNAME:EDT
DTSTART:20250309T070000
END:DAYLIGHT
BEGIN:STANDARD
TZOFFSETFROM:-0400
TZOFFSETTO:-0500
TZNAME:EST
DTSTART:20251102T060000
END:STANDARD
BEGIN:DAYLIGHT
TZOFFSETFROM:-0500
TZOFFSETTO:-0400
TZNAME:EDT
DTSTART:20260308T070000
END:DAYLIGHT
BEGIN:STANDARD
TZOFFSETFROM:-0400
TZOFFSETTO:-0500
TZNAME:EST
DTSTART:20261101T060000
END:STANDARD
BEGIN:DAYLIGHT
TZOFFSETFROM:-0500
TZOFFSETTO:-0400
TZNAME:EDT
DTSTART:20270314T070000
END:DAYLIGHT
BEGIN:STANDARD
TZOFFSETFROM:-0400
TZOFFSETTO:-0500
TZNAME:EST
DTSTART:20271107T060000
END:STANDARD
END:VTIMEZONE
BEGIN:VEVENT
DTSTART;TZID=America/New_York:20260414T160000
DTEND;TZID=America/New_York:20260414T173000
DTSTAMP:20260421T091957
CREATED:20260213T001544Z
LAST-MODIFIED:20260414T212556Z
UID:10000508-1776182400-1776187800@storytapestries.org
SUMMARY:This event is not open to the public.
DESCRIPTION:This event is not open to the public; however if you’re interested in seeing Story Tapestries in action\, contact us at 301-916-6328 or program@storytapestries.org\, and we’ll arrange for you to attend. \nShare This Article:
URL:https://storytapestries.org/event/this-event-is-not-open-to-the-public-4/
LOCATION:Not Provided
END:VEVENT
BEGIN:VEVENT
DTSTART;TZID=America/New_York:20260317T160000
DTEND;TZID=America/New_York:20260317T173000
DTSTAMP:20260421T091957
CREATED:20260116T004250Z
LAST-MODIFIED:20260317T204143Z
UID:10000503-1773763200-1773768600@storytapestries.org
SUMMARY:After School Program
DESCRIPTION:This event is not open to the public; however if you’re interested in seeing Story Tapestries in action\, contact us at 301-916-6328 or program@storytapestries.org\, and we’ll arrange for you to attend. \nShare This Article:
URL:https://storytapestries.org/event/this-event-is-not-open-to-the-public-3/
LOCATION:Not Provided
END:VEVENT
BEGIN:VEVENT
DTSTART;TZID=America/New_York:20260218T183000
DTEND;TZID=America/New_York:20260218T190000
DTSTAMP:20260421T091957
CREATED:20260217T175556Z
LAST-MODIFIED:20260218T234107Z
UID:10000510-1771439400-1771441200@storytapestries.org
SUMMARY:Performance by jazz vocalist\, Alison Crockett
DESCRIPTION:Family Literacy Night – featuring a performance with jazz vocalist\, Alison Crockett\, 6:30-7:00 pm. \nShare This Article:
URL:https://storytapestries.org/event/performance-by-jazz-vocalist-alison-crockett/
LOCATION:Not Provided
END:VEVENT
BEGIN:VEVENT
DTSTART;TZID=America/New_York:20260217T160000
DTEND;TZID=America/New_York:20260217T173000
DTSTAMP:20260421T091957
CREATED:20260108T002242Z
LAST-MODIFIED:20260217T215625Z
UID:10000501-1771344000-1771349400@storytapestries.org
SUMMARY:This event is not open to the public.
DESCRIPTION:This event is not open to the public; however if you’re interested in seeing Story Tapestries in action\, contact us at 301-916-6328 or program@storytapestries.org\, and we’ll arrange for you to attend. \nShare This Article:
URL:https://storytapestries.org/event/this-event-is-not-open-to-the-public-2/
LOCATION:Not Provided
END:VEVENT
BEGIN:VEVENT
DTSTART;TZID=America/New_York:20260120T160000
DTEND;TZID=America/New_York:20260120T173000
DTSTAMP:20260421T091957
CREATED:20260108T002059Z
LAST-MODIFIED:20260120T213452Z
UID:10000500-1768924800-1768930200@storytapestries.org
SUMMARY:This event is not open to the public.
DESCRIPTION:This event is not open to the public; however if you’re interested in seeing Story Tapestries in action\, contact us at 301-916-6328 or program@storytapestries.org\, and we’ll arrange for you to attend. \nShare This Article:
URL:https://storytapestries.org/event/this-event-is-not-open-to-the-public/
LOCATION:Not Provided
END:VEVENT
END:VCALENDAR